BEGIN:VCALENDAR
VERSION:2.0
PRODID:-//国賠ネットワーク - ECPv4.6.10.1//NONSGML v1.0//EN
CALSCALE:GREGORIAN
METHOD:PUBLISH
X-WR-CALNAME:国賠ネットワーク
X-ORIGINAL-URL:http://kokubai.net
X-WR-CALDESC:Events for 国賠ネットワーク
BEGIN:VEVENT
DTSTART;TZID=Asia/Tokyo:20210916T133000
DTEND;TZID=Asia/Tokyo:20210916T153000
DTSTAMP:20210915T184757
CREATED:20210712T021015Z
LAST-MODIFIED:20210712T021015Z
UID:2228-1631799000-1631806200@kokubai.net
SUMMARY:東住吉冤罪事件・青木国賠
DESCRIPTION:9月16日(木) 13:30～ 東住吉冤罪事件・青木国賠　最終弁論　大阪地裁202 \n
URL:http://kokubai.net/event/%e6%9d%b1%e4%bd%8f%e5%90%89%e5%86%a4%e7%bd%aa%e4%ba%8b%e4%bb%b6%e3%83%bb%e9%9d%92%e6%9c%a8%e5%9b%bd%e8%b3%a0-8
END:VEVENT
BEGIN:VEVENT
DTSTART;TZID=Asia/Tokyo:20211007T183000
DTEND;TZID=Asia/Tokyo:20211007T203000
DTSTAMP:20210915T184757
CREATED:20210913T063715Z
LAST-MODIFIED:20210913T070403Z
UID:2232-1633631400-1633638600@kokubai.net
SUMMARY:国賠ネットワーク定例会
DESCRIPTION:10月 7日(木） 18:30～20:30 国賠ネットワーク定例会 編集工房朔 ドメス水道橋ビル301 水道橋 \n
URL:http://kokubai.net/event/%e5%9b%bd%e8%b3%a0%e3%83%8d%e3%83%83%e3%83%88%e3%83%af%e3%83%bc%e3%82%af%e5%ae%9a%e4%be%8b%e4%bc%9a-31
END:VEVENT
BEGIN:VEVENT
DTSTART;TZID=Asia/Tokyo:20211025T133000
DTEND;TZID=Asia/Tokyo:20211025T143000
DTSTAMP:20210915T184757
CREATED:20210913T064026Z
LAST-MODIFIED:20210913T064026Z
UID:2234-1635168600-1635172200@kokubai.net
SUMMARY:大垣警察市民監視違憲訴訟　
DESCRIPTION:10月25日(月） 13:30～ 大垣警察市民監視違憲訴訟　口頭弁論・結審見込み　岐阜地裁301 \n
URL:http://kokubai.net/event/%e5%a4%a7%e5%9e%a3%e8%ad%a6%e5%af%9f%e5%b8%82%e6%b0%91%e7%9b%a3%e8%a6%96%e9%81%95%e6%86%b2%e8%a8%b4%e8%a8%9f%e3%80%80
END:VEVENT
BEGIN:VEVENT
DTSTART;TZID=Asia/Tokyo:20211106T150000
DTEND;TZID=Asia/Tokyo:20211106T200000
DTSTAMP:20210915T184757
CREATED:20210913T065309Z
LAST-MODIFIED:20210913T070316Z
UID:2238-1636210800-1636228800@kokubai.net
SUMMARY:国賠ネット通信192号発送・藍染など
DESCRIPTION:11月 6日(土） 15:00～17:00 国賠ネット通信192号発送　藍染工房松永　JR高崎線「鴻巣」駅から10分 \n次回通信の発送作業 １１月６日（土）午後３時から。恒例の松永宅での「藍染と発送、沖縄料理」です。綿・麻・絹の素材のTシャツやYシャツ等、持参ください。交流会費用2.000円、藍染1.000円。（事務局） \n
URL:http://kokubai.net/event/%e5%9b%bd%e8%b3%a0%e3%83%8d%e3%83%83%e3%83%88%e9%80%9a%e4%bf%a1192%e5%8f%b7%e7%99%ba%e9%80%81%e3%83%bb%e8%97%8d%e6%9f%93%e3%81%aa%e3%81%a9
END:VEVENT
BEGIN:VEVENT
DTSTART;TZID=Asia/Tokyo:20211115T103000
DTEND;TZID=Asia/Tokyo:20211115T113000
DTSTAMP:20210915T184757
CREATED:20210913T070008Z
LAST-MODIFIED:20210913T070209Z
UID:2241-1636972200-1636975800@kokubai.net
SUMMARY:星野獄中死国賠
DESCRIPTION:11月15日(月） 10:30～ 星野獄中死国賠　第8回口頭弁論　東京地裁721 \n
URL:http://kokubai.net/event/%e6%98%9f%e9%87%8e%e7%8d%84%e4%b8%ad%e6%ad%bb%e5%9b%bd%e8%b3%a0-4
END:VEVENT
BEGIN:VEVENT
DTSTART;TZID=Asia/Tokyo:20211118T150000
DTEND;TZID=Asia/Tokyo:20211118T153000
DTSTAMP:20210915T184757
CREATED:20210913T070611Z
LAST-MODIFIED:20210913T070815Z
UID:2244-1637247600-1637249400@kokubai.net
SUMMARY:旅券発給拒否国賠
DESCRIPTION:11月18日(木） 15:00～ 旅券発給拒否国賠 第4回口頭弁論　東京地裁419 \n
URL:http://kokubai.net/event/%e6%97%85%e5%88%b8%e7%99%ba%e7%b5%a6%e6%8b%92%e5%90%a6%e5%9b%bd%e8%b3%a0-3
END:VEVENT
END:VCALENDAR